BEGIN:VCALENDAR
VERSION:2.0
PRODID:-//AntonioGarciaBooks - ECPv6.1.3//NONSGML v1.0//EN
CALSCALE:GREGORIAN
METHOD:PUBLISH
X-ORIGINAL-URL:https://antoniogarciabooks.com
X-WR-CALDESC:Events for AntonioGarciaBooks
REFRESH-INTERVAL;VALUE=DURATION:PT1H
X-Robots-Tag:noindex
X-PUBLISHED-TTL:PT1H
BEGIN:VTIMEZONE
TZID:UTC
BEGIN:STANDARD
TZOFFSETFROM:+0000
TZOFFSETTO:+0000
TZNAME:UTC
DTSTART:20220101T000000
END:STANDARD
END:VTIMEZONE
BEGIN:VEVENT
DTSTART;TZID=UTC:20220929T190000
DTEND;TZID=UTC:20220929T200000
DTSTAMP:20260422T014257
CREATED:20220921T143438Z
LAST-MODIFIED:20220921T143449Z
UID:1208-1664478000-1664481600@antoniogarciabooks.com
SUMMARY:Livestream: Short Stories with Friends w/ guest Empire Cigar Company
DESCRIPTION:Join me as I have Jeremy of Empire Cigar Company on my show to talk about his brand and how to stock up on these awesome cigars!\nThen he’ll help me read my short story\, “I Must Have Her”!\n\nGuest Info:\nWebsite: www.EmpireCigarCompany.com\nIG: @EmpireCigarCo\nFB: @EmpireCigarCo
URL:https://antoniogarciabooks.com/event/livestream-short-stories-with-friends-w-guest-empire-cigar-company/
LOCATION:YouTube
END:VEVENT
BEGIN:VEVENT
DTSTART;TZID=UTC:20230521T120000
DTEND;TZID=UTC:20230521T170000
DTSTAMP:20260422T014257
CREATED:20230208T173510Z
LAST-MODIFIED:20230208T185739Z
UID:1268-1684670400-1684688400@antoniogarciabooks.com
SUMMARY:Author Booth at Centerville Merchant Market
DESCRIPTION:Author Antonio Garcia will have his own booth and will be selling copies of his books\, as well as some of his Artwork\, and other Merchandise!
URL:https://antoniogarciabooks.com/event/author-booth-at-merchant-market/
LOCATION:Stubbs Park Centerville\, 255 W. Spring Valley Pike\, Centerville\, OH
END:VEVENT
BEGIN:VEVENT
DTSTART;TZID=UTC:20230930T120000
DTEND;TZID=UTC:20230930T170000
DTSTAMP:20260422T014257
CREATED:20230915T152745Z
LAST-MODIFIED:20230915T152745Z
UID:1688-1696075200-1696093200@antoniogarciabooks.com
SUMMARY:Fall Fest
DESCRIPTION:Visit my booth at this fun Fall Fest event! I’ll be selling/signing my books\, selling my artwork\, and tons of merch! \n 
URL:https://antoniogarciabooks.com/event/fall-fest/
LOCATION:Stubbs Park Centerville\, 255 W. Spring Valley Pike\, Centerville\, OH
END:VEVENT
BEGIN:VEVENT
DTSTART;TZID=UTC:20231119T130000
DTEND;TZID=UTC:20231119T173000
DTSTAMP:20260422T014257
CREATED:20230915T152413Z
LAST-MODIFIED:20230915T152413Z
UID:1682-1700398800-1700415000@antoniogarciabooks.com
SUMMARY:The Hometown Holiday Walk
DESCRIPTION:Visit my Vendor Booth at this fun holiday event and check out my Books and Artwork! I will also have plenty of Merch to check out as well! \n 
URL:https://antoniogarciabooks.com/event/the-hometown-holiday-walk/
LOCATION:Benham’s Grove\, Centerville\, 166 N. Main St.\, Centerville\, OH\, United States
END:VEVENT
END:VCALENDAR