BEGIN:VCALENDAR
VERSION:2.0
PRODID:-//AntonioGarciaBooks - ECPv6.1.3//NONSGML v1.0//EN
CALSCALE:GREGORIAN
METHOD:PUBLISH
X-ORIGINAL-URL:https://antoniogarciabooks.com
X-WR-CALDESC:Events for AntonioGarciaBooks
REFRESH-INTERVAL;VALUE=DURATION:PT1H
X-Robots-Tag:noindex
X-PUBLISHED-TTL:PT1H
BEGIN:VTIMEZONE
TZID:UTC
BEGIN:STANDARD
TZOFFSETFROM:+0000
TZOFFSETTO:+0000
TZNAME:UTC
DTSTART:20220101T000000
END:STANDARD
END:VTIMEZONE
BEGIN:VEVENT
DTSTART;TZID=UTC:20220908T190000
DTEND;TZID=UTC:20220908T200000
DTSTAMP:20260421T141440
CREATED:20220901T183835Z
LAST-MODIFIED:20220901T184115Z
UID:1166-1662663600-1662667200@antoniogarciabooks.com
SUMMARY:Short Stories with Friends w/ author PJ McIlvaine
DESCRIPTION:Join me as I’m joined by author PC McIlvaine! She’ll talk about her works and share with us some exiting news!\nThen she’ll help me read my short story\, “Frost”
URL:https://antoniogarciabooks.com/event/short-stories-with-friends-w-author-pj-mcilvaine/
LOCATION:YouTube
END:VEVENT
BEGIN:VEVENT
DTSTART;TZID=UTC:20220914T180000
DTEND;TZID=UTC:20220914T190000
DTSTAMP:20260421T141440
CREATED:20220901T184047Z
LAST-MODIFIED:20220901T184047Z
UID:1170-1663178400-1663182000@antoniogarciabooks.com
SUMMARY:Short Stories with Friends w/ charity Back the Blue!
DESCRIPTION:Join us as we take our show on the road at the Barrel in Springboro to talk with John Pawelski about the charity\, “Back the Blue”!\nHe’ll then help me read my short story\, “I Must Have Her”!\nWe’re going to be at a bar. What could go wrong?!
URL:https://antoniogarciabooks.com/event/short-stories-with-friends-w-charity-back-the-blue/
LOCATION:YouTube
END:VEVENT
BEGIN:VEVENT
DTSTART;TZID=UTC:20220929T190000
DTEND;TZID=UTC:20220929T200000
DTSTAMP:20260421T141440
CREATED:20220921T143438Z
LAST-MODIFIED:20220921T143449Z
UID:1208-1664478000-1664481600@antoniogarciabooks.com
SUMMARY:Livestream: Short Stories with Friends w/ guest Empire Cigar Company
DESCRIPTION:Join me as I have Jeremy of Empire Cigar Company on my show to talk about his brand and how to stock up on these awesome cigars!\nThen he’ll help me read my short story\, “I Must Have Her”!\n\nGuest Info:\nWebsite: www.EmpireCigarCompany.com\nIG: @EmpireCigarCo\nFB: @EmpireCigarCo
URL:https://antoniogarciabooks.com/event/livestream-short-stories-with-friends-w-guest-empire-cigar-company/
LOCATION:YouTube
END:VEVENT
END:VCALENDAR